BEGIN:VCALENDAR
VERSION:2.0
PRODID:-//COMPASSS - ECPv6.15.17.1//NONSGML v1.0//EN
CALSCALE:GREGORIAN
METHOD:PUBLISH
X-ORIGINAL-URL:https://compasss.org
X-WR-CALDESC:Events for COMPASSS
REFRESH-INTERVAL;VALUE=DURATION:PT1H
X-Robots-Tag:noindex
X-PUBLISHED-TTL:PT1H
BEGIN:VTIMEZONE
TZID:America/Chicago
BEGIN:DAYLIGHT
TZOFFSETFROM:-0600
TZOFFSETTO:-0500
TZNAME:CDT
DTSTART:20240310T080000
END:DAYLIGHT
BEGIN:STANDARD
TZOFFSETFROM:-0500
TZOFFSETTO:-0600
TZNAME:CST
DTSTART:20241103T070000
END:STANDARD
BEGIN:DAYLIGHT
TZOFFSETFROM:-0600
TZOFFSETTO:-0500
TZNAME:CDT
DTSTART:20250309T080000
END:DAYLIGHT
BEGIN:STANDARD
TZOFFSETFROM:-0500
TZOFFSETTO:-0600
TZNAME:CST
DTSTART:20251102T070000
END:STANDARD
BEGIN:DAYLIGHT
TZOFFSETFROM:-0600
TZOFFSETTO:-0500
TZNAME:CDT
DTSTART:20260308T080000
END:DAYLIGHT
BEGIN:STANDARD
TZOFFSETFROM:-0500
TZOFFSETTO:-0600
TZNAME:CST
DTSTART:20261101T070000
END:STANDARD
END:VTIMEZONE
BEGIN:VEVENT
DTSTART;VALUE=DATE:20250910
DTEND;VALUE=DATE:20250913
DTSTAMP:20260419T152843
CREATED:20250708T114315Z
LAST-MODIFIED:20250708T114358Z
UID:1641-1757462400-1757721599@compasss.org
SUMMARY:2nd MethodsNET Conference
DESCRIPTION:The 2nd MethodsNET Conference is taking place in Louvain-la-Neuve\, Belgium (remote participation also possible)\, 10-12 September – https://methodsnet.org/conference/2nd-methodsnet-conference/\, which also comprises several QCA training options. \n\n20+ short PhD-level training modules\, across various formats. You can find the full list on the conference website\, here is a short summary\, including a QCA track:\n\n\nTrack A: Modeling methods: Quantitative\, computational and SNA\nTrack B: Meaning-making and holistic methods: Qualitative\, interpretive\, case-based and QCA\nTrack C: Methodologies and pedagogies: Reflexivity\, bias\, arts/practice-based\, data quality\, pedagogy\nTrack D: Mixed methods\n\n\na 1-to-1 ‘Meet the Expert’ session with leading scholars\, also QCA experts\nInteractive and hands-on sessions designed especially with junior researchers in mind.\n\nTo register: (1) if you are not yet a MethodsNET member: join MethodsNET (https://methodsnet.org/become-a-member/ ) to benefit from a major registration fee discount; and then (2) register to the Conference (https://methodsnet.org/conference/2nd-methodsnet-conference/).
URL:https://compasss.org/event/2nd-methodsnet-conference/
LOCATION:Louvain-la-Neuve\, Belgium (remote participation also possible)
CATEGORIES:Conferences,Training
ATTACH;FMTTYPE=image/png:https://compasss.org/wp-content/uploads/2025/02/methodsnet_full_purple_small_1-removebg-preview-768x197-1.png
END:VEVENT
END:VCALENDAR